BEGIN:VCALENDAR
VERSION:2.0
PRODID:-//wp-events-plugin.com//7.2.3.1//EN
BEGIN:VEVENT
UID:1569@summittownship.com
DTSTART;TZID=America/New_York:20260804T180000
DTEND;TZID=America/New_York:20260804T180000
DTSTAMP:20251215T163213Z
URL:https://summittownship.com/events/national-night-out/
SUMMARY:National Night Out
DESCRIPTION:This event is an opportunity to meet your neighbors\, connect w
 ith local businesses\, and show appreciation for our local heroes.\n\nFor 
 more information on National Night Out\, please visit https://natw.org/
ATTACH;FMTTYPE=image/jpeg:https://summittownship.com/wp-content/uploads/20
 25/12/Calendar-National-Night-Out.png
CATEGORIES:National Night Out
LOCATION:Community Park\, Ball Park Road\, Erie\, PA\, 16509\, United State
 s
X-APPLE-STRUCTURED-LOCATION;VALUE=URI;X-ADDRESS=Ball Park Road\, Erie\, PA\
 , 16509\, United States;X-APPLE-RADIUS=100;X-TITLE=Community Park:geo:0,0
END:VEVENT
BEGIN:VTIMEZONE
TZID:America/New_York
X-LIC-LOCATION:America/New_York
BEGIN:DAYLIGHT
DTSTART:20260308T030000
TZOFFSETFROM:-0500
TZOFFSETTO:-0400
TZNAME:EDT
END:DAYLIGHT
END:VTIMEZONE
END:VCALENDAR