BEGIN:VCALENDAR
VERSION:2.0
PRODID:-//wp-events-plugin.com//7.2.3.1//EN
BEGIN:VEVENT
UID:1570@summittownship.com
DTSTART;TZID=America/New_York;VALUE=DATE:20260504
DTEND;TZID=America/New_York;VALUE=DATE:20260509
DTSTAMP:20251215T170328Z
URL:https://summittownship.com/events/spring-leaf-collection-pickup-week/
SUMMARY:Spring Leaf Collection Pickup Week
DESCRIPTION:Residents can opt to have their leaves picked up curbside. Ther
 e will be a collection week in May and October.\n\nResidents must contact 
 the township office at 814-868-9686 ext. 222 to register.\nAll leaf waste 
 must be placed in clear/transparent bags and placed at the curb during the
  scheduled leaf collection week. \nClear bags may be obtained from any ret
 ailer of your choice. Bags must be placed separate from trash and recyclin
 g\, and CANNOT contain grass clippings.\nConsider mulching your leaves ont
 o your lawn instead of bagging for an eco-friendlier alternative.
ATTACH;FMTTYPE=image/jpeg:https://summittownship.com/wp-content/uploads/20
 25/12/Leaf-Leaves-Collection-Curbside-Spring.png
CATEGORIES:Leaf Collection Weeks
END:VEVENT
BEGIN:VTIMEZONE
TZID:America/New_York
X-LIC-LOCATION:America/New_York
BEGIN:DAYLIGHT
DTSTART:20260308T030000
TZOFFSETFROM:-0500
TZOFFSETTO:-0400
TZNAME:EDT
END:DAYLIGHT
END:VTIMEZONE
END:VCALENDAR